Workbook

Sheet Reg_adatlap_26
A3: Pályázati regisztrációs adatlap
A4: „Vis maior jellegű halpusztulás, illetve állományvesztés részleges kárenyhítése haltelepítéssel” támogatása
A6: Pályázati kódszám: | B6: ÁPFE-VIII/3/2026
A7: Iktatószám (Támogató tölti ki):
A9: 1. A pályázó adatai:
A10: Pályázó szervezet megnevezése: | B10: =VLOOKUP(B11,'Szervezeti adatok'!A:B,2,FALSE) -> #N/A
A11: MOHOSZ azonosító kódja (formátum egyesületeknek xxx-xx-xx-x; megyei szövetségeknek xxx)
A12: Székhelye: | B12: =VLOOKUP(B11,'Szervezeti adatok'!A:C,3,FALSE) -> #N/A
A13: E-mail címe: | B13: =VLOOKUP(B11,'Szervezeti adatok'!A:I,9,FALSE) -> #N/A
A14: Bírósági nyilvántartási száma: | B14: =VLOOKUP(B11,'Szervezeti adatok'!A:D,4,FALSE) -> #N/A
A15: Adószáma: | B15: =VLOOKUP(B11,'Szervezeti adatok'!A:E,5,FALSE) -> #N/A
A16: Bankszámlaszáma: | B16: =VLOOKUP(B11,'Szervezeti adatok'!A:F,6,FALSE) -> #N/A
A17: Szervezet képviselője (név, beosztás): | B17: =VLOOKUP(B11,'Szervezeti adatok'!A:J,10,FALSE) -> #N/A
A19: 2. A támogatásból tervezett haltelepítések: | B19: 1. melléklet szerint
A21: 3. Igényelt támogatás (1. melléklet adatai szerint számított):
A22: A pályázati kiírás alapján maximálisan igényelhető támogatás (Ft): | B22: =+'1.mell_Tám.tervező_26'!B49 -> 0
A23: Nettó önrész (Ft): | B23: =(B22/0.9)*0.1 -> 0
A24: 4. A pályázat benyújtásának módja és feltételei:
A25: A regisztrációs adatlap és mellékletei benyújtásának végső határideje (e-mail): 2026. december 15. Az adatlapot és mellékleteit elektronikus formában a halgazdalkodas@mohosz.hu címre kérjük küldeni
A26: Beküldendő mellékletek: - az adatlap és 1. melléklete kitöltve, az eredeti .xls formátumban - a regisztrációs adatlap kinyomtatva és aláírva (szkennelt).pdf formátumban, - a vízterület(ek) hatóság által jóváhagyott halgazdálkodási tervének hitelesített másolata (szkennelt) .pdf formátumban, - a halpusztulás halgazdálkodási hatóság felé történő bejelentésének igazolása, - az elpusztult halállomány mennyiségének igazolása (szállítási, átvételi bizonylatok), - a melléklet 1.2 pontjában megjelölt költségtételeket igazoló számlák, kifizetési jegyzékek, menetlevelek és a költségtételek kifizetését igazoló banki bizonylatok, - a halelúszások veszteségeinek pótlására igényelt támogatás esetén külső szakértői vélemény az elúszott halállomány - halfaj és korosztály összetétel szerinti - mennyiségének és értékének meghatározásáról, - szöveges beszámoló a halpusztulás/halelúszás előzményeiről, lefolyásáról és a pályázó által elvégzett kárelhárító intézkedésekről.
A27: Kizárólag a kiírás szerinti, hiánytalanul kitöltött adatlapon, a kiírásban szereplő feltételeknek megfelelő, határidőn belül benyújtott pályázat fogadható el.
A28: 5. A pályázó nyilatkozata:
A29: Büntetőjogi, illetve polgárjogi felelősségem tudatában kijelentem, hogy
A30: 1. a pályázati regisztrációs adatlapon és annak mellékletén feltüntetett adatok, információk teljes körűek, valódiak és hitelesek,
A31: 2. a pályázati kiírásban szereplő feltételeket és követelményeket megismertem, azokat tudomásul veszem,
A32: 3. amennyiben a pályázati tevékenység hatósági nyilvántartáshoz kötött, a nyilvántartásba vétel megtörtént,
A33: 4. amennyiben a pályázathoz kapcsolódó tevékenység hatósági engedélyhez kötött, annak megvalósításához a szükséges hatósági engedélyekkel rendelkezem,
A34: 5. lejárt köztartozással nem rendelkezem,
A35: 6. a MOHOSZ és egyéb horgászszervezet felé lejárt tartozásom nincs,
... A40: Kelt: ......................................, ….......(év) ............................. (hó) ....... (nap)
B42: ..........................................................
B43: a pályázó cégszerű aláírása (bélyegző)

Sheet 1.mell_Tám.tervező_26
A1: Támogatás tervező
A2: 1.sz. melléklet az ÁPFE-VIII/3/2026. pályázathoz
A4: 1. A halpusztulásra vonatkozó adatok:
A5: 1.1. Elpusztult halállomány adatai:
A6: A halpusztulás időszaka:
A7: Érintett vízterület neve: | B7: víztérkód: | C7: területe (ha):
A9: Az elpusztult halállomány mennyisége, halfaj és korosztály szerinti összetétele: | B9: halfaj és korosztály | C9: mennyiség (kg)
B15: Összesen: | C15: =SUM(C10:C14) -> 0
A17: 1.2. A halpusztulás elhárításával kapcsolatosan felmerült támogatható, igazolt költségek:
A18: A haltetemek összegyűjtésének anyagköltségei (Ft):
A19: A haltetemek összegyűjtésének bérjellegű költségei (Ft):
A20: A haltetemek szállításának és ártalmatlanításának költségei (Ft):
A21: Az elpusztult halállomány értéke (Ft): (pályázati kiírás 4.pont szerint számított egységáron) | B21: =C15*1200 -> 0
A22: Igazolt, elszámolható költségek összesen (Ft): | B22: =SUM(B18:C21) -> 0
A24: 2. Hal elúszás okán feltételezhető állomány vesztés
A25: Hal elúszás időszaka:
A26: Érintett vízterület neve: | B26: víztérkód: | C26: területe (ha):
A28: Az elúszott halállomány (szakértői vélemény alapján igazolt) halfaj és korosztály szerinti összetétele: | B28: halfaj és korosztály | C28: mennyiség (kg)
B34: Összesen (kg): | C34: =SUM(C29:C33) -> 0
A35: Az elúszott halállomány számított értéke (Ft): | B35: =+C34*1200 -> 0
A36: A támogatás számításához figyelembevehető érték (60%): | B36: =B35*0.6 -> 0
A38: 3. A pályázati kiírás alapján számított maximálisan igénybevehető támogatás (Ft):
A39: A támogatás számításához az 1. és/vagy 2. pont szeriti figyelembevehető érték összesen: | B39: =+B22+B36 -> 0
A40: Maximálisan igényelhető támogatás: | B40: =IF(B39*0.9>2500000,2500000,B39*0.9) -> 0 | D40: =B40/B39 -> #DIV/0!
A41: 4. A támogatással tervezett haltelepítések halfaj és korosztály szerinti összetétele:
A42: halfaj és korosztály | B42: mennyiség (kg) | C42: nettó ár (Ft/kg)
A48: A tervezett halbeszerzések nettó összértéke (Ft): | B48: =+(B43*C43)+(B44*C44)+(B45*C45)+(B46*C46)+(B47*C47) -> 0
A49: A tervezett halbeszerzések nettó összértéke alapján maximálisan igénybevehető támogatás (Ft): | B49: =IF(B48*0.9>B40,B40,B48*0.9) -> 0 | D49: =+B49/B48 -> #DIV/0!
A50: A halbeszerzések tervezett* szállítója:
A51: *a pályázat kiírója fenntartja a jogot a támogatott haltelepítés koordinációjára, a kiírásnak megfelelő szállító kijelölésével

Sheet Szervezeti adatok
A1: MOHOSZ-kod | B1: nev | C1: Oszlop1 | D1: birosagi_nyilvantartasi_szam | E1: adoszam | F1: bankszamlaszam | G1: torvenyeskepviselo_nev | H1: torvenyeskepviselo_beosztas | I1: szervezet_hivatalos_email | J1: Oszlop2
A2: 171 | B2: Tolna Vármegyei Horgászegyesületek Szövetsége | C2: 7100 Szekszárd, Rákóczi utca 46. | D2: 17-02-0000594 | E2: 18850790-1-17 | F2: 71800037-11138556 | G2: Szakács Szabolcs | H2: ügyvezető igazgató | I2: tohosz@tolna.net | J2: =CONCATENATE(Táblázat1[[#This Row],[torvenyeskepviselo_nev]],", ",Táblázat1[[#This Row],[torvenyeskepviselo_beosztas]]) -> Szakács Szabolcs, ügyvezető igazgató
A3: 011 | B3: Fővárosi Horgászegyesületek Szövetsége | C3: 1138 Budapest, Váci út 200 | D3: 01-02-0015304 | E3: 18518265-1-41 | F3: 12011265-01698378-00100001 | G3: Andrejszky Zoltán | H3: elnök | I3: fohesz@fohesz.hu | J3: =CONCATENATE(Táblázat1[[#This Row],[torvenyeskepviselo_nev]],", ",Táblázat1[[#This Row],[torvenyeskepviselo_beosztas]]) -> Andrejszky Zoltán, elnök
A4: 011-01-02-5 | B4: Baross Gábor Horgászegyesület | C4: 1223 Budapest, Compó utca 1 | D4: 01-02-0002984 | E4: 19623458-1-43 | F4: 11722003-22472472 | G4: Bérczy Antal | H4: elnök | I4: barossgaborhe1946@gmail.com | J4: =CONCATENATE(Táblázat1[[#This Row],[torvenyeskepviselo_nev]],", ",Táblázat1[[#This Row],[torvenyeskepviselo_beosztas]]) -> Bérczy Antal, elnök
A5: 011-01-03-0 | B5: EGIS Gyógyszergyár HE. | C5: 1106 Budapest, Keresztúri út 30-38 | D5: 01-02-0002423 | E5: 19623623-1-42 | F5: 11705998-21263013 | G5: Mocsári Tibor József | H5: elnök | I5: mocsaritibi@gmail.com | J5: =CONCATENATE(Táblázat1[[#This Row],[torvenyeskepviselo_nev]],", ",Táblázat1[[#This Row],[torvenyeskepviselo_beosztas]]) -> Mocsári Tibor József, elnök
A6: 011-01-05-0 | B6: Budapesti Vasutas HE. | C6: 2244 Úri, Rákóczi út 4. | D6: 01-02-0002583 | E6: 19623568-1-42 | F6: 11996224-06233019-10000001 | G6: Nagy József | H6: elnök | I6: vasutashebalatonakali@gmail.com | J6: =CONCATENATE(Táblázat1[[#This Row],[torvenyeskepviselo_nev]],", ",Táblázat1[[#This Row],[torvenyeskepviselo_beosztas]]) -> Nagy József, elnök
A7: 011-01-06-5 | B7: Kelenvölgyi Kék-tó-Hiteka Horgász Egyesület | C7: 1116 Budapest, Állvány utca 6 | D7: 01-02-0002821 | E7: 19623692-1-43 | F7: 11722003-21058864 | G7: Sinkó Antal | H7: elnök | I7: hargimiki@gmail.com | J7: =CONCATENATE(Táblázat1[[#This Row],[torvenyeskepviselo_nev]],", ",Táblázat1[[#This Row],[torvenyeskepviselo_beosztas]]) -> Sinkó Antal, elnök
A8: 011-01-07-0 | B8: BKV "Tihany" Horgászegyesület | C8: 1173 Budapest, Tápiószele utca 30. | D8: 01-02-0002858 | E8: 19623506-1-42 | F8: 10401921-50484851-55531000 | G8: Viandt Márton | H8: elnök | I8: bkvtihanyhe@gmail.com | J8: =CONCATENATE(Táblázat1[[#This Row],[torvenyeskepviselo_nev]],", ",Táblázat1[[#This Row],[torvenyeskepviselo_beosztas]]) -> Viandt Márton, elnök
A9: 011-01-08-5 | B9: Lőrinci Fonó Horgászegyesület | C9: 1181 Budapest, Margó Tivadar utca 25 | D9: 01-02-0002584 | E9: 19623788-1-43 | F9: 65100118-11290700 | G9: Oláh Tamás | H9: elnök | I9: lorincifonohe@gmail.com | J9: =CONCATENATE(Táblázat1[[#This Row],[torvenyeskepviselo_nev]],", ",Táblázat1[[#This Row],[torvenyeskepviselo_beosztas]]) -> Oláh Tamás, elnök
A10: 011-01-09-0 | B10: MÁV Előre Horgászegyesület | C10: 1138 Budapest, Népsziget utca 1-3 | D10: 01-02-0002525 | E10: 19623836-1-41 | F10: 16200113-61488832 | G10: Varró Károly | H10: elnök | I10: vklzs@freemail.hu | J10: =CONCATENATE(Táblázat1[[#This Row],[torvenyeskepviselo_nev]],", ",Táblázat1[[#This Row],[torvenyeskepviselo_beosztas]]) -> Varró Károly, elnök
A11: 011-01-11-4 | B11: Péteri- majori Dózsa Horgász Egyesület | C11: 1238 Budapest, Őszirózsa utca 196266/2/-61 | D11: 01-02-0002779 | E11: 19623537-1-43 | F11: 11644006-04341700-44000007 | G11: Nagy Gábor | H11: elnök | I11: ng82.gn@gmail.com | J11: =CONCATENATE(Táblázat1[[#This Row],[torvenyeskepviselo_nev]],", ",Táblázat1[[#This Row],[torvenyeskepviselo_beosztas]]) -> Nagy Gábor, elnök
A12: 011-01-14-0 | B12: BKV-HÉV Dolgozóinak Horgász Egyesülete | C12: 2481 Velence, Ady utca 31. | D12: 01-02-0002235 | E12: 19623496-1-07 | F12: 11600006-00000001-97319534 | G12: Boros Tibor István | H12: elnök | I12: boros.tibor@gmail.com | J12: =CONCATENATE(Táblázat1[[#This Row],[torvenyeskepviselo_nev]],", ",Táblázat1[[#This Row],[torvenyeskepviselo_beosztas]]) -> Boros Tibor István, elnök
A13: 011-01-17-5 | B13: Újhegyi Horgász Egyesület | C13: 1108 Budapest, hrsz 423601/1 | D13: 01-02-0002307 | E13: 19624071-1-43 | F13: 11710002-20081531 | G13: Dr. Csordás Sándor | H13: elnök | I13: ujhegyihorgaszegyesulet@gmail.com | J13: =CONCATENATE(Táblázat1[[#This Row],[torvenyeskepviselo_nev]],", ",Táblázat1[[#This Row],[torvenyeskepviselo_beosztas]]) -> Dr. Csordás Sándor, elnök
A14: 011-01-18-0 | B14: Interglob Sport-Horgász Egyesület | C14: 1039 Budapest, Bivalyos utca 47 | D14: 01-02-0002837 | E14: 19623575-1-41 | F14: 16200168-11530051 | G14: Horváth Péter József | H14: elnök | I14: hopgal@freemail.hu | J14: =CONCATENATE(Táblázat1[[#This Row],[torvenyeskepviselo_nev]],", ",Táblázat1[[#This Row],[torvenyeskepviselo_beosztas]]) -> Horváth Péter József, elnök
... A44: 011-13-33-5 | B44: Veresegyházi Horgász Egyesület | C44: 2112 Veresegyház, Köves utca 14. | D44: 13-02-0002160 | E44: 18674918-1-13 | F44: 66000011-11040677 | G44: Herczeg Pál | H44: elnök | I44: herczegpal1@gmail.com; veresegyhazihe@gmail.com | J44: =CONCATENATE(Táblázat1[[#This Row],[torvenyeskepviselo_nev]],", ",Táblázat1[[#This Row],[torvenyeskepviselo_beosztas]]) -> Herczeg Pál, elnök
A45: 011-13-49-0 | B45: Lupa Természetvédő, Horgász és Kulturális Egyesület | C45: 2011 Budakalász, Tó utca 1 | D45: 13-02-0007832 | E45: 19248343-2-13 | G45: Veégh Viktor | H45: elnök | I45: v.viktor@varioevent.hu | J45: =CONCATENATE(Táblázat1[[#This Row],[torvenyeskepviselo_nev]],", ",Táblázat1[[#This Row],[torvenyeskepviselo_beosztas]]) -> Veégh Viktor , elnök
A46: 011-13-50-0 | B46: Mentésben és Egészségügyben Résztvevők Szabadidő,Horgász és Sportegyesület | C46: 2600 Vác, Deákvári főút 58 | D46: 13-02-0008038 | E46: 19305884-1-13 | F46: 11600006-00000000-95670920 | G46: Horváth László | H46: elnök | I46: horvathlaszlo0213@gmail.com | J46: =CONCATENATE(Táblázat1[[#This Row],[torvenyeskepviselo_nev]],", ",Táblázat1[[#This Row],[torvenyeskepviselo_beosztas]]) -> Horváth László, elnök
A47: 011-13-51-0 | B47: Kisoroszi Nyurgaponty Horgász Egyesület | C47: 2024 Kisoroszi, Széchenyi út 80 | D47: 13-02-0003885 | E47: 18702783-1-13 | F47: 64700021-10010457 | G47: Sas József | H47: elnök | I47: ifjsasjozsef@gmail.com | J47: =CONCATENATE(Táblázat1[[#This Row],[torvenyeskepviselo_nev]],", ",Táblázat1[[#This Row],[torvenyeskepviselo_beosztas]]) -> Sas József , elnök
A48: 011-13-53-0 | B48: BULL Horgász Egyesület | C48: 1205 Budapest, Vas Gereben utca 86 | D48: 01-02-0018332 | E48: 19395782-1-43 | F48: 11709088-21458271 | G48: Feleky Gabriella | H48: elnökségi tag | I48: bullhorgaszegyesulet@gmail.com | J48: =CONCATENATE(Táblázat1[[#This Row],[torvenyeskepviselo_nev]],", ",Táblázat1[[#This Row],[torvenyeskepviselo_beosztas]]) -> Feleky Gabriella, elnökségi tag
A49: 012-01-01-5 | B49: Honvéd Sporthorgász Egyesület | C49: 1146 Budapest, Stefánia út 34 | D49: 01-02-0001807 | E49: 19624033-1-42 | F49: 11707024-20002080 | G49: Kulcsár János | H49: elnök | I49: harosiobol@gmail.com | J49: =CONCATENATE(Táblázat1[[#This Row],[torvenyeskepviselo_nev]],", ",Táblázat1[[#This Row],[torvenyeskepviselo_beosztas]]) -> Kulcsár János, elnök
A50: 012-01-02-0 | B50: Nagybudapesti Horgászok Egyesülete | C50: 1111 Budapest, Lágymányosi utca 14 | D50: 01-02-0002406 | E50: 19623922-1-43 | F50: 11707024-22114699 | G50: Béki József | H50: elnök | I50: nagybudapestihe@gmail.com | J50: =CONCATENATE(Táblázat1[[#This Row],[torvenyeskepviselo_nev]],", ",Táblázat1[[#This Row],[torvenyeskepviselo_beosztas]]) -> Béki József, elnök
A51: 012-01-03-0 | B51: Óbudai Dolgozók Sporthorgász Egyesülete | C51: 1031 Budapest, Csikóvár utca 12. | D51: 01-02-0002688 | E51: 19623953-1-41 | F51: 11703006-25961108 | G51: Veégh Viktor | H51: elnök | I51: v.viktor@varioevent.hu | J51: =CONCATENATE(Táblázat1[[#This Row],[torvenyeskepviselo_nev]],", ",Táblázat1[[#This Row],[torvenyeskepviselo_beosztas]]) -> Veégh Viktor, elnök
A52: 012-01-05-0 | B52: Nemzetgazdasági Minisztérium Horgászbarátok Egyesület | C52: 1051 Budapest, József nádor tér 2 | D52: 01-02-0002634 | E52: 19623740-1-41 | F52: 10300002-10295072-49020014 | G52: Hidas Sándor | H52: elnök | I52: ngmhorgasz@gmail.com | J52: =CONCATENATE(Táblázat1[[#This Row],[torvenyeskepviselo_nev]],", ",Táblázat1[[#This Row],[torvenyeskepviselo_beosztas]]) -> Hidas Sándor, elnök
A53: 012-01-06-0 | B53: Statisztika Horgászegyesület | C53: 1171 Budapest, Anna utca 16 | D53: 01-02-0002945 | E53: 19624040-1-42 | F53: 12100011-19050182 | G53: Windtner Zoltán | H53: elnök | I53: statisztikahe@gmail.com | J53: =CONCATENATE(Táblázat1[[#This Row],[torvenyeskepviselo_nev]],", ",Táblázat1[[#This Row],[torvenyeskepviselo_beosztas]]) -> Windtner Zoltán, elnök
A54: 012-01-07-0 | B54: Országos Tervhivatal Dolgozóinak Horgász Egyesülete | C54: 1114 Budapest, Móricz Zsigmond körtér 2 | D54: 01-02-0002407 | E54: 19623984-1-43 | F54: 11711041-20962214 | G54: Dr. Fehér Jenő | H54: elnök | I54: csikos46.lajos@gmail.com | J54: =CONCATENATE(Táblázat1[[#This Row],[torvenyeskepviselo_nev]],", ",Táblázat1[[#This Row],[torvenyeskepviselo_beosztas]]) -> Dr. Fehér Jenő, elnök
A55: 012-01-09-0 | B55: Fővárosi "Duna" Horgászegyesület | C55: 1111 Budapest, Lágymányosi utca 14 | D55: 01-02-0005428 | E55: 18056154-1-43 | F55: 11711041-20960621 | G55: Halécius Judit | H55: elnök | I55: fodunahe@gmail.com | J55: =CONCATENATE(Táblázat1[[#This Row],[torvenyeskepviselo_nev]],", ",Táblázat1[[#This Row],[torvenyeskepviselo_beosztas]]) -> Halécius Judit, elnök
A56: 021 | B56: Horgász Egyesületek Baranya Megyei Szövetsége | C56: 7621 Pécs, Teréz utca 11-13. | D56: 02-02-0001040 | E56: 19032571-1-02 | F56: 11731001-20206198 | G56: Kapitány Zsolt | H56: ügyvezető elnök | I56: info@hebmesz.hu | J56: =CONCATENATE(Táblázat1[[#This Row],[torvenyeskepviselo_nev]],", ",Táblázat1[[#This Row],[torvenyeskepviselo_beosztas]]) -> Kapitány Zsolt, ügyvezető elnök
A57: 021-02-01-9 | B57: Sellyei Horgász Egyesület | C57: 7960 Sellye, hrsz 012. | D57: 02-02-0000065 | E57: 19944506-1-02 | F57: 11731128-20014043 | G57: Gömöri László | H57: elnök | I57: guruto@freemail.hu; gomori6812@gmail.com | J57: =CONCATENATE(Táblázat1[[#This Row],[torvenyeskepviselo_nev]],", ",Táblázat1[[#This Row],[torvenyeskepviselo_beosztas]]) -> Gömöri László, elnök
... A79: 021-02-23-4 | B79: Szászvári Haladás Horgász Egyesület | C79: 7349 Szászvár, Külterület kültelek 085/1b.Ép. | D79: 02-02-0000053 | E79: 18315024-1-02 | F79: 71800068-11000808 | G79: Szilágyi Ferenc | H79: elnök | I79: ferszi@citromail.hu | J79: =CONCATENATE(Táblázat1[[#This Row],[torvenyeskepviselo_nev]],", ",Táblázat1[[#This Row],[torvenyeskepviselo_beosztas]]) -> Szilágyi Ferenc, elnök
A80: 021-02-24-4 | B80: "Zselic" Horgász Egyesület, Almamellék | C80: 7934 Almamellék, Kossuth utca 19 | D80: 02-02-0000073 | E80: 19026291-1-02 | F80: 11731094-20011507 | G80: Wolf Gábor | H80: elnök | J80: =CONCATENATE(Táblázat1[[#This Row],[torvenyeskepviselo_nev]],", ",Táblázat1[[#This Row],[torvenyeskepviselo_beosztas]]) -> Wolf Gábor, elnök
A81: 021-02-25-0 | B81: Drávazug Horgász Egyesület Felsőszentmárton | C81: 7968 Felsőszentmárton, Ifjúság utca 16. | D81: 02-02-0000051 | E81: 19944496-1-02 | F81: 50700152-11021986 | G81: Kustra Gábor | H81: elnök | I81: greges.anna3@gmail.com | J81: =CONCATENATE(Táblázat1[[#This Row],[torvenyeskepviselo_nev]],", ",Táblázat1[[#This Row],[torvenyeskepviselo_beosztas]]) -> Kustra Gábor, elnök
A82: 021-02-26-0 | B82: Bissei "Hunyadi" Horgászegyesület | C82: 7815 Harkány, Petőfi Sándor utca 63 | D82: 02-02-0000588 | E82: 19030878-1-02 | F82: 50100198-10001291 | G82: Kun Gyula | H82: elnök | I82: kw.krisz@gmail.com | J82: =CONCATENATE(Táblázat1[[#This Row],[torvenyeskepviselo_nev]],", ",Táblázat1[[#This Row],[torvenyeskepviselo_beosztas]]) -> Kun Gyula, elnök
A83: 021-02-27-0 | B83: Drávasztárai Horgász Egyesület | C83: 7960 Drávasztára, Zrínyi Miklós utca 21 | D83: 02-02-0000631 | E83: 19031484-1-02 | G83: Greksa Bálint | H83: elnök | I83: gb22@freemail.hu | J83: =CONCATENATE(Táblázat1[[#This Row],[torvenyeskepviselo_nev]],", ",Táblázat1[[#This Row],[torvenyeskepviselo_beosztas]]) -> Greksa Bálint, elnök
A84: 021-02-29-4 | B84: Baksai Horgász Egyesület | C84: 7834 Baksa, Ifjúság utca 12 | D84: 02-02-0000828 | E84: 19035804-1-02 | F84: 50700059-15500135 | G84: Sütő László | H84: elnök | I84: bhe.titkarsag@gmail.com | J84: =CONCATENATE(Táblázat1[[#This Row],[torvenyeskepviselo_nev]],", ",Táblázat1[[#This Row],[torvenyeskepviselo_beosztas]]) -> Sütő László, elnök
A85: 021-02-30-5 | B85: Kétújfalui "Gyöngyös" Horgász Egyesület | C85: 7975 Kétújfalu, Zrínyi utca 30 | D85: 02-02-0000852 | E85: 19036836-1-02 | F85: 50800087-10000269 | G85: Kaszti József | H85: elnök | I85: brunnerarpi63@gmail.com | J85: =CONCATENATE(Táblázat1[[#This Row],[torvenyeskepviselo_nev]],", ",Táblázat1[[#This Row],[torvenyeskepviselo_beosztas]]) -> Kaszti József , elnök
A86: 021-02-31-4 | B86: Dél-Zselic Horgász Egyesület Somogyhárságy-Magyarlukafa | C86: 7900 Szigetvár, Szabadság utca 4 | D86: 02-02-0001060 | E86: 18301179-1-02 | F86: 11731094-20011480 | G86: Ádám Zoltán | H86: elnök | I86: ady.zoltan@gmail.com | J86: =CONCATENATE(Táblázat1[[#This Row],[torvenyeskepviselo_nev]],", ",Táblázat1[[#This Row],[torvenyeskepviselo_beosztas]]) -> Ádám Zoltán, elnök
A87: 021-02-33-5 | B87: Hiricsi Horgász Egyesület | C87: 7838 Hirics, Vörösmarty utca 10 | D87: 02-02-0001173 | E87: 18305032-1-02 | F87: 50700145-11021807 | G87: Kiss István | H87: elnök | I87: richard.durovics@gmail.hu | J87: =CONCATENATE(Táblázat1[[#This Row],[torvenyeskepviselo_nev]],", ",Táblázat1[[#This Row],[torvenyeskepviselo_beosztas]]) -> Kiss István, elnök
A88: 021-02-34-5 | B88: Átai " Virágzó" Horgászegyesület | C88: 7762 Pécsudvard, Babos utca 7 | D88: 02-02-0001632 | E88: 18312849-1-02 | G88: Farkas Norbert György | H88: elnök | I88: norbert.farkas68@gmail.com | J88: =CONCATENATE(Táblázat1[[#This Row],[torvenyeskepviselo_nev]],", ",Táblázat1[[#This Row],[torvenyeskepviselo_beosztas]]) -> Farkas Norbert György, elnök
A89: 021-02-35-5 | B89: Bicsérdi Horgász Egyesület | C89: 7671 Bicsérd, Alkotmány tér 3 | D89: 02-02-0001647 | E89: 18313723-1-02 | F89: 50700073-15700373 | G89: Szili Ákos | H89: elnök | I89: miniszili@gmail.com | J89: =CONCATENATE(Táblázat1[[#This Row],[torvenyeskepviselo_nev]],", ",Táblázat1[[#This Row],[torvenyeskepviselo_beosztas]]) -> Szili Ákos, elnök
A90: 021-02-36-4 | B90: Március 15. Horgászegyesület | C90: 7940 Kacsóta, Petőfi utca 1/a | D90: 02-02-0001682 | E90: 18313709-1-02 | F90: 11731094-21455144 | G90: Odenvald Csaba | H90: elnök | I90: marcius15horgaszegyesulet@gmail.com | J90: =CONCATENATE(Táblázat1[[#This Row],[torvenyeskepviselo_nev]],", ",Táblázat1[[#This Row],[torvenyeskepviselo_beosztas]]) -> Odenvald Csaba, elnök
A91: 021-02-38-0 | B91: Béda-Hodály Természetkedvelő és Horgász Egyesület | C91: 7700 Mohács, Táncsics M utca 34 | D91: 02-02-0001841 | E91: 18654604-1-02 | G91: Gulyás Antal | H91: elnök | I91: gulyasantal66@gmail.com | J91: =CONCATENATE(Táblázat1[[#This Row],[torvenyeskepviselo_nev]],", ",Táblázat1[[#This Row],[torvenyeskepviselo_beosztas]]) -> Gulyás Antal, elnök
A92: 021-02-39-0 | B92: Diósviszlói Kossuth Horgász Egyesület | C92: 7817 Diósviszló, Petőfi Sándor utca 7 | D92: 02-02-0001720 | E92: 18315866-1-02 | F92: 50800173-15446783 | G92: Tóth Gyula | H92: elnök | I92: tothdavid1218@gmail.com | J92: =CONCATENATE(Táblázat1[[#This Row],[torvenyeskepviselo_nev]],", ",Táblázat1[[#This Row],[torvenyeskepviselo_beosztas]]) -> Tóth Gyula, elnök
A93: 021-02-40-4 | B93: Duna-Dráva Horgász Egyesület | C93: 7823 Kistapolca, Jókai Mór utca 4 | D93: 02-02-0001795 | E93: 18317129-1-02 | F93: 11731087-20016801 | G93: Horváth Norbert | H93: elnök | I93: adamszki.peter@gmail.com | J93: =CONCATENATE(Táblázat1[[#This Row],[torvenyeskepviselo_nev]],", ",Táblázat1[[#This Row],[torvenyeskepviselo_beosztas]]) -> Horváth Norbert, elnök
A94: 021-02-41-4 | B94: Zádori Horgász Egyesület | C94: 7976 Zádor, Béke tér 3 | D94: 02-02-0001789 | E94: 18315103-1-02 | F94: 50800087-11002886 | G94: Varga Béláné | H94: elnök | I94: s.voros93@gmail.com | J94: =CONCATENATE(Táblázat1[[#This Row],[torvenyeskepviselo_nev]],", ",Táblázat1[[#This Row],[torvenyeskepviselo_beosztas]]) -> Varga Béláné, elnök
A95: 021-02-42-5 | B95: Brázay Kastélypark Természetvédő és Horgász Egyesület | C95: 7831 Pellérd, Damjanich utca 9-11 | D95: 02-02-0001877 | E95: 18318120-1-02 | F95: 50700066-15600637 | G95: Kiss Tamás | H95: elnök | I95: brazaykastelypark.the@gmail.com | J95: =CONCATENATE(Táblázat1[[#This Row],[torvenyeskepviselo_nev]],", ",Táblázat1[[#This Row],[torvenyeskepviselo_beosztas]]) -> Kiss Tamás, elnök
A96: 021-02-43-0 | B96: Szentlőrinci Horgász Egyesület | C96: 7940 Szentlőrinc, Pécsi út 2 | D96: 02-02-0001811 | E96: 18317222-1-02 | F96: 11731135-20010757 | G96: Varga Balázs | H96: elnök | I96: v.balazs@promixfeeder.hu | J96: =CONCATENATE(Táblázat1[[#This Row],[torvenyeskepviselo_nev]],", ",Táblázat1[[#This Row],[torvenyeskepviselo_beosztas]]) -> Varga Balázs, elnök
A97: 021-02-44-0 | B97: Jenyei Horgász Egyesület | C97: 7700 Mohács, Kodály Zoltán utca 79 | D97: 02-02-0001925 | E97: 18320286-1-02 | F97: 10402410-49535354-51521017 | G97: Kálé Tamás László | H97: elnök | I97: jenyeihe@gmail.com | J97: =CONCATENATE(Táblázat1[[#This Row],[torvenyeskepviselo_nev]],", ",Táblázat1[[#This Row],[torvenyeskepviselo_beosztas]]) -> Kálé Tamás László , elnök
A98: 021-02-45-5 | B98: Hetvehelyi Horgász Egyesület | C98: 7681 Hetvehely, Rákóczi utca 40 | D98: 02-02-0002375 | E98: 18324699-1-02 | F98: 50700042-11026376 | G98: Kollár Kornél | H98: elnök | I98: kollar.kornel02@gmail.com | J98: =CONCATENATE(Táblázat1[[#This Row],[torvenyeskepviselo_nev]],", ",Táblázat1[[#This Row],[torvenyeskepviselo_beosztas]]) -> Kollár Kornél, elnök
A99: 021-02-46-5 | B99: Kistapolca és Vidéke Horgász Egyesület | C99: 7823 Kistapolca, Jókai Mór utca 4 | D99: 02-02-0002626 | E99: 18327733-1-02 | F99: 11731087-29902437 | G99: Szabó Zsolt | H99: elnök | I99: borbalato2022@gmail.com | J99: =CONCATENATE(Táblázat1[[#This Row],[torvenyeskepviselo_nev]],", ",Táblázat1[[#This Row],[torvenyeskepviselo_beosztas]]) -> Szabó Zsolt, elnök
A100: 021-02-47-4 | B100: Palkó Sándor Horgász Egyesület | C100: 7621 Pécs, Teréz utca 11-13. | D100: 02-02-0002472 | E100: 18325944-1-02 | F100: 50800111-11150161 | G100: Ifj. Schiffni József | H100: elnök | I100: joci19911110@gmail.com | J100: =CONCATENATE(Táblázat1[[#This Row],[torvenyeskepviselo_nev]],", ",Táblázat1[[#This Row],[torvenyeskepviselo_beosztas]]) -> Ifj. Schiffni József, elnök
A101: 021-02-48-0 | B101: Kökényi Horgász Egyesület | C101: 7639 Kökény, Petőfi Sándor utca 2 | D101: 02-02-0002516 | E101: 18326086-1-02 | F101: 11731025-21060085 | G101: Horváth Péter | H101: elnök | I101: kokenyihe@gmail.com | J101: =CONCATENATE(Táblázat1[[#This Row],[torvenyeskepviselo_nev]],", ",Táblázat1[[#This Row],[torvenyeskepviselo_beosztas]]) -> Horváth Péter, elnök
A102: 021-02-50-0 | B102: Abaligeti Horgász Egyesület | C102: 7629 Pécs, Bocskai utca 1 | D102: 02-02-0002861 | E102: 18331004-1-02 | F102: 10402427-50505454-56551002 | G102: Faluközi Árpád Béla | H102: elnök | I102: falukoziarpad@gmail.com | J102: =CONCATENATE(Táblázat1[[#This Row],[torvenyeskepviselo_nev]],", ",Táblázat1[[#This Row],[torvenyeskepviselo_beosztas]]) -> Faluközi Árpád Béla, elnök
A103: 021-02-51-0 | B103: Halvilág Horgászegyesület | C103: 7630 Pécs, Koksz utca 5 | D103: 02-02-0003101 | E103: 18031467-1-02 | F103: 10300002-10687883-49020015 | G103: Tölgyesi László | H103: elnök | I103: rrtzs77@gmail.com | J103: =CONCATENATE(Táblázat1[[#This Row],[torvenyeskepviselo_nev]],", ",Táblázat1[[#This Row],[torvenyeskepviselo_beosztas]]) -> Tölgyesi László, elnök
... A192: 031-03-81-0 | B192: Tíztó Horgászegyesület | C192: 6500 Baja, Kinizsi Pál utca 9/A | D192: 03-02-0004137 | E192: 19403281-1-03 | F192: 11600006-00000002-01761665 | G192: Wolford Erika | H192: elnök | I192: tiztohorgasztavak@gmail.com | J192: =CONCATENATE(Táblázat1[[#This Row],[torvenyeskepviselo_nev]],", ",Táblázat1[[#This Row],[torvenyeskepviselo_beosztas]]) -> Wolford Erika, elnök
A193: 032 | B193: Országos Kishalász Érdekszövetség | C193: 6500 Baja, Dália utca 9 | D193: 03-02-0002833 | E193: 19551504-1-03 | G193: Konyár Zoltán | H193: elnök | I193: konyar.zoltan.senior@gmail.com | J193: =CONCATENATE(Táblázat1[[#This Row],[torvenyeskepviselo_nev]],", ",Táblázat1[[#This Row],[torvenyeskepviselo_beosztas]]) -> Konyár Zoltán, elnök
A194: 032-03-02-0 | B194: Duna Gyöngye Kishalász Egyesület | C194: 6352 Fajsz, Dózsa Gy. utca 18. | D194: 03-02-0000066 | E194: 18358030-1-03 | G194: Seres Róbert Imre | H194: elnök | I194: dunagyongye18@gmail.com | J194: =CONCATENATE(Táblázat1[[#This Row],[torvenyeskepviselo_nev]],", ",Táblázat1[[#This Row],[torvenyeskepviselo_beosztas]]) -> Seres Róbert Imre, elnök
A195: 032-03-03-0 | B195: Gemenc Kishalász Sportegyesület | C195: 6500 Baja, hrsz. 0715/9 | D195: 03-02-0000631 | E195: 18340033-1-03 | G195: Konyár Zoltán | H195: elnök | I195: konyar.zoltan.senior@gmail.com | J195: =CONCATENATE(Táblázat1[[#This Row],[torvenyeskepviselo_nev]],", ",Táblázat1[[#This Row],[torvenyeskepviselo_beosztas]]) -> Konyár Zoltán, elnök
A196: 032-03-04-0 | B196: Sárköz-Kisszerszámos-Halászegyesület | C196: 6346 Sükösd, Dózsa Gy. utca 201. | D196: 03-02-0000497 | E196: 18359990-1-03 | G196: ifj. Berta János | H196: elnök | I196: bertajaja87@t-online.hu | J196: =CONCATENATE(Táblázat1[[#This Row],[torvenyeskepviselo_nev]],", ",Táblázat1[[#This Row],[torvenyeskepviselo_beosztas]]) -> ifj. Berta János, elnök
A197: 032-08-05-0 | B197: Győr-Moson-Sopron Megyei Hagyományőrző Kishalász Egyesület | C197: 9241 Jánossomorja, Liget utca 36. | D197: 08-02-0062953 | E197: 18910791-1-08 | G197: Fejes József | H197: elnök | I197: fejesek@t-online.hu | J197: =CONCATENATE(Táblázat1[[#This Row],[torvenyeskepviselo_nev]],", ",Táblázat1[[#This Row],[torvenyeskepviselo_beosztas]]) -> Fejes József, elnök
A198: 032-17-01-0 | B198: "BÉKE" Szekszárd és Környéke Kishalászok Egyesülete | C198: 7100 Szekszárd, Tartsay lakótelep 15. | D198: 17-02-0000186 | E198: 18861288-1-17 | G198: Kovács József | H198: elnök | I198: damari47@gmail.com | J198: =CONCATENATE(Táblázat1[[#This Row],[torvenyeskepviselo_nev]],", ",Táblázat1[[#This Row],[torvenyeskepviselo_beosztas]]) -> Kovács József, elnök
A199: 041 | B199: Körösvidéki Horgász Egyesületek Szövetsége | C199: 5600 Békéscsaba, Bajza utca 11. | D199: 04-02-0001028 | E199: 19059181-1-04 | F199: 11733003-20030188 | G199: Nemes Attila Károly | H199: ügyvezető igazgató | I199: iroda@khesz.hu | J199: =CONCATENATE(Táblázat1[[#This Row],[torvenyeskepviselo_nev]],", ",Táblázat1[[#This Row],[torvenyeskepviselo_beosztas]]) -> Nemes Attila Károly, ügyvezető igazgató
A200: 041-04-01-0 | B200: Békéscsaba Sporthorgász Egyesület | C200: 5621 Csárdaszállás, Csárdazug tanya 57 | D200: 04-02-0000334 | E200: 19977874-1-04 | F200: 10102615-04011100-01003001 | G200: Kliment István | H200: elnök | I200: corvindent@gmail.com | J200: =CONCATENATE(Táblázat1[[#This Row],[torvenyeskepviselo_nev]],", ",Táblázat1[[#This Row],[torvenyeskepviselo_beosztas]]) -> Kliment István, elnök
A201: 041-04-02-5 | B201: Mezőberényi Horgászok Egyesülete | C201: 5650 Mezőberény, Petőfi utca 8. | D201: 04-02-0000335 | E201: 19977946-1-04 | F201: 11733144-2001-6100 | G201: Szalai Zsolt | H201: elnök | I201: mberenyihorgaszok@gmail.com | J201: =CONCATENATE(Táblázat1[[#This Row],[torvenyeskepviselo_nev]],", ",Táblázat1[[#This Row],[torvenyeskepviselo_beosztas]]) -> Szalai Zsolt, elnök
A202: 041-04-03-9 | B202: Békési Horgász Egyesület | C202: 5630 Békés, Csabai utca 30 | D202: 04-02-0000329 | E202: 19978071-1-04 | F202: 11733072-20000954 | G202: Dérfai Mónika | H202: elnök | I202: bekesihe@gmail.com | J202: =CONCATENATE(Táblázat1[[#This Row],[torvenyeskepviselo_nev]],", ",Táblázat1[[#This Row],[torvenyeskepviselo_beosztas]]) -> Dérfai Mónika, elnök
A203: 041-04-04-0 | B203: Gyomai Horgászok Egyesület | C203: 5500 Gyomaendrőd, Szabadság tér 1 | D203: 04-02-0000344 | E203: 19978019-1-04 | F203: 53200125-11055592 | G203: Szatmári József | H203: elnök | I203: gyomahe45@gmail.com | J203: =CONCATENATE(Táblázat1[[#This Row],[torvenyeskepviselo_nev]],", ",Táblázat1[[#This Row],[torvenyeskepviselo_beosztas]]) -> Szatmári József, elnök
A204: 041-04-05-0 | B204: TÚRTŐ-KÁKAFOKI HORGÁSZ EGYEGYESÜLET | C204: 5400 Mezőtúr, Földvári út 15 | D204: 04-02-0000348 | E204: 19978112-1-16 | F204: 11733058-20007360 | G204: Sáfár Zsolt | H204: elnök | J204: =CONCATENATE(Táblázat1[[#This Row],[torvenyeskepviselo_nev]],", ",Táblázat1[[#This Row],[torvenyeskepviselo_beosztas]]) -> Sáfár Zsolt, elnök
A205: 041-04-06-0 | B205: Békésszentandrási Dolgozók Horgász Egyesülete | C205: 5561 Békésszentandrás, Fő utca 26 | D205: 04-02-0000327 | E205: 19980993-1-04 | F205: 53900021-13001726 | G205: Hegedűs László Mihály | H205: elnök | I205: pecasport@gmail.com | J205: =CONCATENATE(Táblázat1[[#This Row],[torvenyeskepviselo_nev]],", ",Táblázat1[[#This Row],[torvenyeskepviselo_beosztas]]) -> Hegedűs László Mihály, elnök
A206: 041-04-07-1 | B206: Gyulai Dolgozók Horgász Egyesülete | C206: 5700 Gyula, Szent László utca 1 | D206: 04-02-0000312 | E206: 19978088-1-04 | F206: 11600006-00000000-47098884 | G206: Ficzere István | H206: elnök | I206: gyulaidolgozok@gmail.com | J206: =CONCATENATE(Táblázat1[[#This Row],[torvenyeskepviselo_nev]],", ",Táblázat1[[#This Row],[torvenyeskepviselo_beosztas]]) -> Ficzere István, elnök
A207: 041-04-08-3 | B207: Sarkadi Horgász Egyesület | C207: 5720 Sarkad, Rózsa utca 17 | D207: 04-02-0000313 | E207: 19977977-1-04 | F207: 10402623-50526871-50511006 | G207: Sebestény Mihályné | H207: elnök | I207: shesarkad@gmail.com | J207: =CONCATENATE(Táblázat1[[#This Row],[torvenyeskepviselo_nev]],", ",Táblázat1[[#This Row],[torvenyeskepviselo_beosztas]]) -> Sebestény Mihályné, elnök
A208: 041-04-09-0 | B208: Körösvidéki Sporthorgász Egyesület | C208: 5600 Békéscsaba, Békési út 15 | D208: 04-02-0000350 | E208: 19977867-1-04 | F208: 11733003-20002145 | G208: Végh Zoltán | H208: elnök | I208: zoltan.vegh1951@gmail.com | J208: =CONCATENATE(Táblázat1[[#This Row],[torvenyeskepviselo_nev]],", ",Táblázat1[[#This Row],[torvenyeskepviselo_beosztas]]) -> Végh Zoltán, elnök
A209: 041-04-10-0 | B209: Orosházi Kinizsi Horgász Egyesület | C209: 5900 Orosháza, Iglói utca 59 | D209: 04-02-0000314 | E209: 19978105-1-04 | F209: 10402647-50526866-66661005 | G209: Pelle Zsolt | H209: elnök | I209: okinizsihe@gmail.com | J209: =CONCATENATE(Táblázat1[[#This Row],[torvenyeskepviselo_nev]],", ",Táblázat1[[#This Row],[torvenyeskepviselo_beosztas]]) -> Pelle Zsolt, elnök
A210: 041-04-11-0 | B210: Köröstarcsai Dobó Ferenc Horgász Egyesület | C210: 5622 Köröstarcsa, Kossuth Lajos utca 8 | D210: 04-02-0000326 | E210: 19977953-1-04 | F210: 53200039-10000575 | G210: Juhász Antal | H210: elnök | I210: dobohorgasz@gmail.com | J210: =CONCATENATE(Táblázat1[[#This Row],[torvenyeskepviselo_nev]],", ",Táblázat1[[#This Row],[torvenyeskepviselo_beosztas]]) -> Juhász Antal, elnök
A211: 041-04-12-0 | B211: Szeghalmi Sporthorgász Egyesület | C211: 5520 Szeghalom, Bethlen Gábor utca 34 | D211: 04-02-0000315 | E211: 19978057-1-04 | F211: 54000014-10000180 | G211: Csák István | H211: elnök | I211: csakistvan@kitnet.hu | J211: =CONCATENATE(Táblázat1[[#This Row],[torvenyeskepviselo_nev]],", ",Táblázat1[[#This Row],[torvenyeskepviselo_beosztas]]) -> Csák István, elnök
A212: 041-04-13-0 | B212: Csorvási Horgász Egyesület | C212: 5920 Csorvás, István Király utca 1 | D212: 04-02-0000319 | E212: 19978002-1-04 | F212: 11733096-20015549 | G212: Seres Gábor Szilveszter | H212: elnök | I212: seresgsz@gmail.com | J212: =CONCATENATE(Táblázat1[[#This Row],[torvenyeskepviselo_nev]],", ",Táblázat1[[#This Row],[torvenyeskepviselo_beosztas]]) -> Seres Gábor Szilveszter, elnök
A213: 041-04-14-0 | B213: Kner Nyomda Sporthorgász Egyesülete | C213: 5600 Békéscsaba, Baross utca 9-21. | D213: 04-02-0000322 | E213: 19977850-1-04 | F213: 11600006-00000000-98234761 | G213: Fodor László | H213: elnök | I213: laszlo.fodor.bcs@gmail.com | J213: =CONCATENATE(Táblázat1[[#This Row],[torvenyeskepviselo_nev]],", ",Táblázat1[[#This Row],[torvenyeskepviselo_beosztas]]) -> Fodor László, elnök
A214: 041-04-15-3 | B214: Városi Horgász Egyesület | C214: 5600 Békéscsaba, Bajza utca 11 | D214: 04-02-0000339 | E214: 19977881-1-04 | F214: 10700165-48873608-51100005 | G214: Domokos Attila András | H214: elnök | I214: domokos42@freemail.hu | J214: =CONCATENATE(Táblázat1[[#This Row],[torvenyeskepviselo_nev]],", ",Táblázat1[[#This Row],[torvenyeskepviselo_beosztas]]) -> Domokos Attila András, elnök
A215: 041-04-16-0 | B215: Békéscsabai AFIT Horgász Egyesület | C215: 5600 Békéscsaba, Bajza utca 11 | D215: 04-02-0000349 | E215: 19977939-1-04 | F215: 53200118-11053394 | G215: Feledi János | H215: elnök | I215: jfeledi@gmail.com | J215: =CONCATENATE(Táblázat1[[#This Row],[torvenyeskepviselo_nev]],", ",Táblázat1[[#This Row],[torvenyeskepviselo_beosztas]]) -> Feledi János, elnök
A216: 041-04-17-0 | B216: Rokka Horgász Egyesület | C216: 5600 Békéscsaba, Bajza utca 11. | D216: 04-02-0000325 | E216: 19977898-1-04 | F216: 10410400-00000190-04234436 | G216: Szabó János Gábor | H216: elnök | I216: szabo.janos.gabor85@gmail.com | J216: =CONCATENATE(Táblázat1[[#This Row],[torvenyeskepviselo_nev]],", ",Táblázat1[[#This Row],[torvenyeskepviselo_beosztas]]) -> Szabó János Gábor, elnök
A217: 041-04-18-0 | B217: SELLŐ Horgász Egyesület Bélmegyer | C217: 5643 Bélmegyer, Tavasz utca 26 | D217: 04-02-0000688 | E217: 19057725-1-04 | F217: 53200084-11089328 | G217: Csicsári Tibor | H217: elnök | I217: tibor2432@gmail.com | J217: =CONCATENATE(Táblázat1[[#This Row],[torvenyeskepviselo_nev]],", ",Táblázat1[[#This Row],[torvenyeskepviselo_beosztas]]) -> Csicsári Tibor, elnök
A218: 041-04-19-0 | B218: Téglagyári Horgászegyesület (Békéscsaba) | C218: 5600 Békéscsaba, Bajza utca 11. | D218: 04-02-0000331 | E218: 19977915-1-04 | G218: Varga Sándor | H218: titkár | I218: nemesattila@khesz.hu | J218: =CONCATENATE(Táblázat1[[#This Row],[torvenyeskepviselo_nev]],", ",Táblázat1[[#This Row],[torvenyeskepviselo_beosztas]]) -> Varga Sándor, titkár
A219: 041-04-20-0 | B219: Békéscsabai DÓZSA Sporthorgász Egyesület | C219: 5600 Békéscsaba, Bartók Béla út 1-3 | D219: 04-02-0000345 | E219: 19977922-1-04 | F219: 10402609-50527078-68871006 | G219: Nika István | H219: elnök | I219: nikaistvan73@gmail.com | J219: =CONCATENATE(Táblázat1[[#This Row],[torvenyeskepviselo_nev]],", ",Táblázat1[[#This Row],[torvenyeskepviselo_beosztas]]) -> Nika István, elnök
A220: 041-04-21-1 | B220: Kondorosi Horgász Egyesület | C220: 5553 Kondoros, Hősök tere 4-5. | D220: 04-02-0000316 | E220: 19978033-1-04 | F220: 53700072-15706032 | G220: Kasnyik Gergő | H220: elnök | I220: info@kondhorgegy.hu | J220: =CONCATENATE(Táblázat1[[#This Row],[torvenyeskepviselo_nev]],", ",Táblázat1[[#This Row],[torvenyeskepviselo_beosztas]]) -> Kasnyik Gergő, elnök
A221: 041-04-22-5 | B221: Vésztői Körös Sporthorgász Egyesület | C221: 5530 Vésztő, Várkonyi utca 15 | D221: 04-02-0002505 | E221: 18390674-1-04 | F221: 54000083-11020466 | G221: Oláh Sándor | H221: elnök | I221: olahsandor68@freemail.hu | J221: =CONCATENATE(Táblázat1[[#This Row],[torvenyeskepviselo_nev]],", ",Táblázat1[[#This Row],[torvenyeskepviselo_beosztas]]) -> Oláh Sándor, elnök
A222: 041-04-23-5 | B222: Mágori Horgász Egyesület | C222: 5530 Vésztő, Északi utca 2 | D222: 04-02-0000333 | E222: 19978064-1-04 | F222: 11733209-20015855 | G222: Nagy Imre Zoltán | H222: elnök | I222: magorihe@gmail.com | J222: =CONCATENATE(Táblázat1[[#This Row],[torvenyeskepviselo_nev]],", ",Táblázat1[[#This Row],[torvenyeskepviselo_beosztas]]) -> Nagy Imre Zoltán, elnök
A223: 041-04-24-5 | B223: Munkás Horgász Egyesület Elek | C223: 5742 Elek, Kétegyházi út 22. | D223: 04-02-0000346 | E223: 19977960-1-04 | F223: 11733113-20005155 | G223: Krizsán István | H223: elnök | I223: munkashe@gmail.com | J223: =CONCATENATE(Táblázat1[[#This Row],[torvenyeskepviselo_nev]],", ",Táblázat1[[#This Row],[torvenyeskepviselo_beosztas]]) -> Krizsán István, elnök
A224: 041-04-25-0 | B224: Olajbányász Horgász Egyesület Orosháza | C224: 5900 Orosháza, Nagyhegyi utca 20 | D224: 04-02-0000341 | E224: 19978095-1-04 | F224: 10402647-50527088-87531005 | G224: Nász Imre | H224: elnök | I224: imrenasz@gmail.com | J224: =CONCATENATE(Táblázat1[[#This Row],[torvenyeskepviselo_nev]],", ",Táblázat1[[#This Row],[torvenyeskepviselo_beosztas]]) -> Nász Imre, elnök
A225: 041-04-26-5 | B225: Petőfi Horgász Egyesület | C225: 5624 Doboz, Hunyadi tér 1 | D225: 04-02-0000324 | E225: 19981028-1-04 | F225: 53600037-10014657 | G225: Metz József | H225: elnök | J225: =CONCATENATE(Táblázat1[[#This Row],[torvenyeskepviselo_nev]],", ",Táblázat1[[#This Row],[torvenyeskepviselo_beosztas]]) -> Metz József, elnök
A226: 041-04-27-1 | B226: Sporthorgász Egyesület ( Mezőkovácsháza ) | C226: 5800 Mezőkovácsháza, Árpád utca 176. | D226: 04-02-0000320 | E226: 19981011-1-04 | F226: 10402630-50514951-57531003 | G226: Rácz Róbert László | H226: elnök | I226: horgaszegyesulet.mezokovacshaza@gmail.com | J226: =CONCATENATE(Táblázat1[[#This Row],[torvenyeskepviselo_nev]],", ",Táblázat1[[#This Row],[torvenyeskepviselo_beosztas]]) -> Rácz Róbert László, elnök
A227: 041-04-28-5 | B227: Nagykamarási Horgász Egyesület | C227: 5751 Nagykamarás, Kossuth L. utca 2 | D227: 04-02-0000321 | E227: 19981004-1-04 | F227: 53500212-10202337 | G227: Orbán Sándor | H227: elnök | J227: =CONCATENATE(Táblázat1[[#This Row],[torvenyeskepviselo_nev]],", ",Táblázat1[[#This Row],[torvenyeskepviselo_beosztas]]) -> Orbán Sándor, elnök
A228: 041-04-29-0 | B228: UNICSABA Horgász Egyesület | C228: 5600 Békéscsaba, Andrássy út 3-5 | D228: 04-02-0000323 | E228: 19980962-1-04 | F228: 10402609-50526678-83761004 | G228: Gregor György | H228: elnök | I228: gregorgy1242@gmail.com | J228: =CONCATENATE(Táblázat1[[#This Row],[torvenyeskepviselo_nev]],", ",Táblázat1[[#This Row],[torvenyeskepviselo_beosztas]]) -> Gregor György, elnök
A229: 041-04-30-1 | B229: Paradicsomi Horgász Egyesület | C229: 5700 Gyula, Külterület őrházak 056/5 | D229: 04-02-0000340 | E229: 19980955-1-04 | F229: 10402623-50526770-80831006 | G229: Puskás Sándor | H229: elnök | J229: =CONCATENATE(Táblázat1[[#This Row],[torvenyeskepviselo_nev]],", ",Táblázat1[[#This Row],[torvenyeskepviselo_beosztas]]) -> Puskás Sándor, elnök
A230: 041-04-31-0 | B230: Csabai Konzerv Horgász Egyesület | C230: 5600 Békéscsaba, Kazinczy lakótelep 31. C. | D230: 04-02-0000317 | E230: 19980979-1-04 | F230: 11733003-21345090 | G230: Ábrahám Andor | H230: elnök | I230: csabaikonzervhe@gmail.com | J230: =CONCATENATE(Táblázat1[[#This Row],[torvenyeskepviselo_nev]],", ",Táblázat1[[#This Row],[torvenyeskepviselo_beosztas]]) -> Ábrahám Andor, elnök
A231: 041-04-32-5 | B231: Hermann Ottó Horgász Egyesület | C231: 5525 Füzesgyarmat, Széchenyi utca 6 | D231: 04-02-0000311 | E231: 19052933-1-04 | F231: 54000052-10000032 | G231: Fekete István | H231: elnök | I231: olahneeva70@freemail.hu | J231: =CONCATENATE(Táblázat1[[#This Row],[torvenyeskepviselo_nev]],", ",Táblázat1[[#This Row],[torvenyeskepviselo_beosztas]]) -> Fekete István , elnök
A232: 041-04-33-3 | B232: Nagyközségi Horgászegyesület Kevermes | C232: 5744 Kevermes, Jókai utca 1. | D232: 04-02-0000330 | E232: 19052957-1-04 | F232: 53500016-10001796 | G232: Simon-Csatlós Zoltán | H232: elnök | I232: simoncsatloszoltan@gmail.com | J232: =CONCATENATE(Táblázat1[[#This Row],[torvenyeskepviselo_nev]],", ",Táblázat1[[#This Row],[torvenyeskepviselo_beosztas]]) -> Simon-Csatlós Zoltán, elnök
A233: 041-04-34-4 | B233: Dugovics Titusz Horgász Egyesület Békéscsaba | C233: 5600 Békéscsaba, Szabadság tér 6 | D233: 04-02-0000352 | E233: 19052335-1-04 | F233: 12056008-01755539-00100006 | G233: Hricsovinyi József | H233: elnök | I233: hricsovinyij@freemail.hu | J233: =CONCATENATE(Táblázat1[[#This Row],[torvenyeskepviselo_nev]],", ",Táblázat1[[#This Row],[torvenyeskepviselo_beosztas]]) -> Hricsovinyi József, elnök
A234: 041-04-35-9 | B234: Munkácsy Horgász Egyesület | C234: 5700 Gyula, Cinka Panna utca 20 | D234: 04-02-0000351 | E234: 19364674-1-04 | F234: 10402623-50526753-67831008 | G234: Szabó Zoltán | H234: elnök | I234: szabozozo@vipmail.hu | J234: =CONCATENATE(Táblázat1[[#This Row],[torvenyeskepviselo_nev]],", ",Táblázat1[[#This Row],[torvenyeskepviselo_beosztas]]) -> Szabó Zoltán, elnök
A235: 041-04-36-3 | B235: Kamuti Béke Horgász Egyesület | C235: 5673 Kamut, Széchenyi utca 68 | D235: 04-02-0000354 | E235: 19058355-1-04 | F235: 53700072-15700201 | G235: Földesi István | H235: elnök | I235: imrenefekete951@gmail.com | J235: =CONCATENATE(Táblázat1[[#This Row],[torvenyeskepviselo_nev]],", ",Táblázat1[[#This Row],[torvenyeskepviselo_beosztas]]) -> Földesi István, elnök
A236: 041-04-37-0 | B236: Csali Horgász Egyesület | C236: 5527 Bucsa, Kossuth tér 6 | D236: 04-02-0000356 | E236: 18387311-1-04 | F236: 10101171-05338900-01003004 | G236: Nagy Ferenc | H236: elnök | I236: csalihe@bucsa.hu | J236: =CONCATENATE(Táblázat1[[#This Row],[torvenyeskepviselo_nev]],", ",Táblázat1[[#This Row],[torvenyeskepviselo_beosztas]]) -> Nagy Ferenc, elnök
A237: 041-04-39-4 | B237: Jamina Horgászegyesület | C237: 5600 Békéscsaba, hrsz 2631 | D237: 04-02-0000020 | E237: 19052995-1-04 | F237: 53700072-11044200 | G237: Bielik Mátyás | H237: elnök | J237: =CONCATENATE(Táblázat1[[#This Row],[torvenyeskepviselo_nev]],", ",Táblázat1[[#This Row],[torvenyeskepviselo_beosztas]]) -> Bielik Mátyás, elnök
A238: 041-04-40-0 | B238: Petőfi Horgász Egyesület | C238: 5621 Csárdaszállás, Kossuth Lajos utca 13. | D238: 04-02-0000360 | E238: 19052940-1-04 | F238: 53200053-10000128 | G238: Bodó Ferenc | H238: elnök | I238: f.bodo@freemail.hu | J238: =CONCATENATE(Táblázat1[[#This Row],[torvenyeskepviselo_nev]],", ",Táblázat1[[#This Row],[torvenyeskepviselo_beosztas]]) -> Bodó Ferenc, elnök
...

Sheet kódok
A1: AGRO-AQUA Kft.
A2: AQUINT Hungária Kft.
A3: Aranykárász Bt. (Dankó István őstermelő)
A4: Aranyponty Halászati Zrt.
A5: BAJCSHAL Kft.
A6: Bajor Imre egyéni vállalkozó
A7: Bakos Zsolt egyéni vállalkozó
A8: Balatoni Halgazdálkodási Nonprofit Zrt.
A9: Balogh Szerviz Trans Kft.
A10: Béda-Duna Kft.
A11: Békési Halászati Kft.
A12: Bertalan és Társa Halászati Kft.
... A90: Varga Farm Kft.
