Workbook

Sheet Reg_adatlap_26
A3: Pályázati regisztrációs adatlap
A4: „Vis maior jellegű halpusztulás, illetve állományvesztés részleges kárenyhítése haltelepítéssel” támogatása
A6: Pályázati kódszám: | B6: ÁPFE-VIII/3/2026
A7: Iktatószám (Támogató tölti ki):
A9: 1. A pályázó adatai:
A10: Pályázó szervezet megnevezése: | B10: =VLOOKUP(B11,'Szervezeti adatok'!A:B,2,FALSE) -> #N/A
A11: MOHOSZ azonosító kódja (formátum egyesületeknek xxx-xx-xx-x; megyei szövetségeknek xxx)
A12: Székhelye: | B12: =VLOOKUP(B11,'Szervezeti adatok'!A:C,3,FALSE) -> #N/A
A13: E-mail címe: | B13: =VLOOKUP(B11,'Szervezeti adatok'!A:I,9,FALSE) -> #N/A
A14: Bírósági nyilvántartási száma: | B14: =VLOOKUP(B11,'Szervezeti adatok'!A:D,4,FALSE) -> #N/A
A15: Adószáma: | B15: =VLOOKUP(B11,'Szervezeti adatok'!A:E,5,FALSE) -> #N/A
A16: Bankszámlaszáma: | B16: =VLOOKUP(B11,'Szervezeti adatok'!A:F,6,FALSE) -> #N/A
A17: Szervezet képviselője (név, beosztás): | B17: =VLOOKUP(B11,'Szervezeti adatok'!A:J,10,FALSE) -> #N/A
A19: 2. A támogatásból tervezett haltelepítések: | B19: 1. melléklet szerint
A21: 3. Igényelt támogatás (1. melléklet adatai szerint számított):
A22: A pályázati kiírás alapján maximálisan igényelhető támogatás (Ft): | B22: =+'1.mell_Tám.tervező_26'!B49 -> 0
A23: Nettó önrész (Ft): | B23: =(B22/0.9)*0.1 -> 0
A24: 4. A pályázat benyújtásának módja és feltételei:
A25: A regisztrációs adatlap és mellékletei benyújtásának végső határideje (e-mail): 2026. december 15. Az adatlapot és mellékleteit elektronikus formában a halgazdalkodas@mohosz.hu címre kérjük küldeni
A26: Beküldendő mellékletek: - az adatlap és 1. melléklete kitöltve, az eredeti .xls formátumban - a regisztrációs adatlap kinyomtatva és aláírva (szkennelt).pdf formátumban, - a vízterület(ek) hatóság által jóváhagyott halgazdálkodási tervének hitelesített másolata (szkennelt) .pdf formátumban, - a halpusztulás halgazdálkodási hatóság felé történő bejelentésének igazolása, - az elpusztult halállomány mennyiségének igazolása (szállítási, átvételi bizonylatok), - a melléklet 1.2 pontjában megjelölt költségtételeket igazoló számlák, kifizetési jegyzékek, menetlevelek és a költségtételek kifizetését igazoló banki bizonylatok, - a halelúszások veszteségeinek pótlására igényelt támogatás esetén külső szakértői vélemény az elúszott halállomány - halfaj és korosztály összetétel szerinti - mennyiségének és értékének meghatározásáról, - szöveges beszámoló a halpusztulás/halelúszás előzményeiről, lefolyásáról és a pályázó által elvégzett kárelhárító intézkedésekről.
A27: Kizárólag a kiírás szerinti, hiánytalanul kitöltött adatlapon, a kiírásban szereplő feltételeknek megfelelő, határidőn belül benyújtott pályázat fogadható el.
A28: 5. A pályázó nyilatkozata:
A29: Büntetőjogi, illetve polgárjogi felelősségem tudatában kijelentem, hogy
A30: 1. a pályázati regisztrációs adatlapon és annak mellékletén feltüntetett adatok, információk teljes körűek, valódiak és hitelesek,
A31: 2. a pályázati kiírásban szereplő feltételeket és követelményeket megismertem, azokat tudomásul veszem,
A32: 3. amennyiben a pályázati tevékenység hatósági nyilvántartáshoz kötött, a nyilvántartásba vétel megtörtént,
A33: 4. amennyiben a pályázathoz kapcsolódó tevékenység hatósági engedélyhez kötött, annak megvalósításához a szükséges hatósági engedélyekkel rendelkezem,
A34: 5. lejárt köztartozással nem rendelkezem,
A35: 6. a MOHOSZ és egyéb horgászszervezet felé lejárt tartozásom nincs,
... A40: Kelt: ......................................, ….......(év) ............................. (hó) ....... (nap)
B42: ..........................................................
B43: a pályázó cégszerű aláírása (bélyegző)

Sheet 1.mell_Tám.tervező_26
A1: Támogatás tervező
A2: 1.sz. melléklet az ÁPFE-VIII/3/2026. pályázathoz
A4: 1. A halpusztulásra vonatkozó adatok:
A5: 1.1. Elpusztult halállomány adatai:
A6: A halpusztulás időszaka:
A7: Érintett vízterület neve: | B7: víztérkód: | C7: területe (ha):
A9: Az elpusztult halállomány mennyisége, halfaj és korosztály szerinti összetétele: | B9: halfaj és korosztály | C9: mennyiség (kg)
B15: Összesen: | C15: =SUM(C10:C14) -> 0
A17: 1.2. A halpusztulás elhárításával kapcsolatosan felmerült támogatható, igazolt költségek:
A18: A haltetemek összegyűjtésének anyagköltségei (Ft):
A19: A haltetemek összegyűjtésének bérjellegű költségei (Ft):
A20: A haltetemek szállításának és ártalmatlanításának költségei (Ft):
A21: Az elpusztult halállomány értéke (Ft): (pályázati kiírás 4.pont szerint számított egységáron) | B21: =C15*1200 -> 0
A22: Igazolt, elszámolható költségek összesen (Ft): | B22: =SUM(B18:C21) -> 0
A24: 2. Hal elúszás okán feltételezhető állomány vesztés
A25: Hal elúszás időszaka:
A26: Érintett vízterület neve: | B26: víztérkód: | C26: területe (ha):
A28: Az elúszott halállomány (szakértői vélemény alapján igazolt) halfaj és korosztály szerinti összetétele: | B28: halfaj és korosztály | C28: mennyiség (kg)
B34: Összesen (kg): | C34: =SUM(C29:C33) -> 0
A35: Az elúszott halállomány számított értéke (Ft): | B35: =+C34*1200 -> 0
A36: A támogatás számításához figyelembevehető érték (60%): | B36: =B35*0.6 -> 0
A38: 3. A pályázati kiírás alapján számított maximálisan igénybevehető támogatás (Ft):
A39: A támogatás számításához az 1. és/vagy 2. pont szeriti figyelembevehető érték összesen: | B39: =+B22+B36 -> 0
A40: Maximálisan igényelhető támogatás: | B40: =IF(B39*0.9>2500000,2500000,B39*0.9) -> 0 | D40: =B40/B39 -> #DIV/0!
A41: 4. A támogatással tervezett haltelepítések halfaj és korosztály szerinti összetétele:
A42: halfaj és korosztály | B42: mennyiség (kg) | C42: nettó ár (Ft/kg)
A48: A tervezett halbeszerzések nettó összértéke (Ft): | B48: =+(B43*C43)+(B44*C44)+(B45*C45)+(B46*C46)+(B47*C47) -> 0
A49: A tervezett halbeszerzések nettó összértéke alapján maximálisan igénybevehető támogatás (Ft): | B49: =IF(B48*0.9>B40,B40,B48*0.9) -> 0 | D49: =+B49/B48 -> #DIV/0!
A50: A halbeszerzések tervezett* szállítója:
A51: *a pályázat kiírója fenntartja a jogot a támogatott haltelepítés koordinációjára, a kiírásnak megfelelő szállító kijelölésével

Sheet Szervezeti adatok
A1: MOHOSZ-kod | B1: nev | C1: Oszlop1 | D1: birosagi_nyilvantartasi_szam | E1: adoszam | F1: bankszamlaszam | G1: torvenyeskepviselo_nev | H1: torvenyeskepviselo_beosztas | I1: szervezet_hivatalos_email | J1: Oszlop2
A2: 171 | B2: Tolna Vármegyei Horgászegyesületek Szövetsége | C2: 7100 Szekszárd, Rákóczi utca 46. | D2: 17-02-0000594 | E2: 18850790-1-17 | F2: 71800037-11138556 | G2: Szakács Szabolcs | H2: ügyvezető igazgató | I2: tohosz@tolna.net | J2: =CONCATENATE(Táblázat1[[#This Row],[torvenyeskepviselo_nev]],", ",Táblázat1[[#This Row],[torvenyeskepviselo_beosztas]]) -> Szakács Szabolcs, ügyvezető igazgató
A3: 011 | B3: Fővárosi Horgászegyesületek Szövetsége | C3: 1138 Budapest, Váci út 200 | D3: 01-02-0015304 | E3: 18518265-1-41 | F3: 12011265-01698378-00100001 | G3: Andrejszky Zoltán | H3: elnök | I3: fohesz@fohesz.hu | J3: =CONCATENATE(Táblázat1[[#This Row],[torvenyeskepviselo_nev]],", ",Táblázat1[[#This Row],[torvenyeskepviselo_beosztas]]) -> Andrejszky Zoltán, elnök
A4: 011-01-02-5 | B4: Baross Gábor Horgászegyesület | C4: 1223 Budapest, Compó utca 1 | D4: 01-02-0002984 | E4: 19623458-1-43 | F4: 11722003-22472472 | G4: Bérczy Antal | H4: elnök | I4: barossgaborhe1946@gmail.com | J4: =CONCATENATE(Táblázat1[[#This Row],[torvenyeskepviselo_nev]],", ",Táblázat1[[#This Row],[torvenyeskepviselo_beosztas]]) -> Bérczy Antal, elnök
A5: 011-01-03-0 | B5: EGIS Gyógyszergyár HE. | C5: 1106 Budapest, Keresztúri út 30-38 | D5: 01-02-0002423 | E5: 19623623-1-42 | F5: 11705998-21263013 | G5: Mocsári Tibor József | H5: elnök | I5: mocsaritibi@gmail.com | J5: =CONCATENATE(Táblázat1[[#This Row],[torvenyeskepviselo_nev]],", ",Táblázat1[[#This Row],[torvenyeskepviselo_beosztas]]) -> Mocsári Tibor József, elnök
A6: 011-01-05-0 | B6: Budapesti Vasutas HE. | C6: 2244 Úri, Rákóczi út 4. | D6: 01-02-0002583 | E6: 19623568-1-42 | F6: 11996224-06233019-10000001 | G6: Nagy József | H6: elnök | I6: vasutashebalatonakali@gmail.com | J6: =CONCATENATE(Táblázat1[[#This Row],[torvenyeskepviselo_nev]],", ",Táblázat1[[#This Row],[torvenyeskepviselo_beosztas]]) -> Nagy József, elnök
A7: 011-01-06-5 | B7: Kelenvölgyi Kék-tó-Hiteka Horgász Egyesület | C7: 1116 Budapest, Állvány utca 6 | D7: 01-02-0002821 | E7: 19623692-1-43 | F7: 11722003-21058864 | G7: Sinkó Antal | H7: elnök | I7: hargimiki@gmail.com | J7: =CONCATENATE(Táblázat1[[#This Row],[torvenyeskepviselo_nev]],", ",Táblázat1[[#This Row],[torvenyeskepviselo_beosztas]]) -> Sinkó Antal, elnök
A8: 011-01-07-0 | B8: BKV "Tihany" Horgászegyesület | C8: 1173 Budapest, Tápiószele utca 30. | D8: 01-02-0002858 | E8: 19623506-1-42 | F8: 10401921-50484851-55531000 | G8: Viandt Márton | H8: elnök | I8: bkvtihanyhe@gmail.com | J8: =CONCATENATE(Táblázat1[[#This Row],[torvenyeskepviselo_nev]],", ",Táblázat1[[#This Row],[torvenyeskepviselo_beosztas]]) -> Viandt Márton, elnök
A9: 011-01-08-5 | B9: Lőrinci Fonó Horgászegyesület | C9: 1181 Budapest, Margó Tivadar utca 25 | D9: 01-02-0002584 | E9: 19623788-1-43 | F9: 65100118-11290700 | G9: Oláh Tamás | H9: elnök | I9: lorincifonohe@gmail.com | J9: =CONCATENATE(Táblázat1[[#This Row],[torvenyeskepviselo_nev]],", ",Táblázat1[[#This Row],[torvenyeskepviselo_beosztas]]) -> Oláh Tamás, elnök
A10: 011-01-09-0 | B10: MÁV Előre Horgászegyesület | C10: 1138 Budapest, Népsziget utca 1-3 | D10: 01-02-0002525 | E10: 19623836-1-41 | F10: 16200113-61488832 | G10: Varró Károly | H10: elnök | I10: vklzs@freemail.hu | J10: =CONCATENATE(Táblázat1[[#This Row],[torvenyeskepviselo_nev]],", ",Táblázat1[[#This Row],[torvenyeskepviselo_beosztas]]) -> Varró Károly, elnök
A11: 011-01-11-4 | B11: Péteri- majori Dózsa Horgász Egyesület | C11: 1238 Budapest, Őszirózsa utca 196266/2/-61 | D11: 01-02-0002779 | E11: 19623537-1-43 | F11: 11644006-04341700-44000007 | G11: Nagy Gábor | H11: elnök | I11: ng82.gn@gmail.com | J11: =CONCATENATE(Táblázat1[[#This Row],[torvenyeskepviselo_nev]],", ",Táblázat1[[#This Row],[torvenyeskepviselo_beosztas]]) -> Nagy Gábor, elnök
A12: 011-01-14-0 | B12: BKV-HÉV Dolgozóinak Horgász Egyesülete | C12: 2481 Velence, Ady utca 31. | D12: 01-02-0002235 | E12: 19623496-1-07 | F12: 11600006-00000001-97319534 | G12: Boros Tibor István | H12: elnök | I12: boros.tibor@gmail.com | J12: =CONCATENATE(Táblázat1[[#This Row],[torvenyeskepviselo_nev]],", ",Táblázat1[[#This Row],[torvenyeskepviselo_beosztas]]) -> Boros Tibor István, elnök
A13: 011-01-17-5 | B13: Újhegyi Horgász Egyesület | C13: 1108 Budapest, hrsz 423601/1 | D13: 01-02-0002307 | E13: 19624071-1-43 | F13: 11710002-20081531 | G13: Dr. Csordás Sándor | H13: elnök | I13: ujhegyihorgaszegyesulet@gmail.com | J13: =CONCATENATE(Táblázat1[[#This Row],[torvenyeskepviselo_nev]],", ",Táblázat1[[#This Row],[torvenyeskepviselo_beosztas]]) -> Dr. Csordás Sándor, elnök
A14: 011-01-18-0 | B14: Interglob Sport-Horgász Egyesület | C14: 1039 Budapest, Bivalyos utca 47 | D14: 01-02-0002837 | E14: 19623575-1-41 | F14: 16200168-11530051 | G14: Horváth Péter József | H14: elnök | I14: hopgal@freemail.hu | J14: =CONCATENATE(Táblázat1[[#This Row],[torvenyeskepviselo_nev]],", ",Táblázat1[[#This Row],[torvenyeskepviselo_beosztas]]) -> Horváth Péter József, elnök
... A44: 011-13-33-5 | B44: Veresegyházi Horgász Egyesület | C44: 2112 Veresegyház, Köves utca 14. | D44: 13-02-0002160 | E44: 18674918-1-13 | F44: 66000011-11040677 | G44: Herczeg Pál | H44: elnök | I44: herczegpal1@gmail.com; veresegyhazihe@gmail.com | J44: =CONCATENATE(Táblázat1[[#This Row],[torvenyeskepviselo_nev]],", ",Táblázat1[[#This Row],[torvenyeskepviselo_beosztas]]) -> Herczeg Pál, elnök
A45: 011-13-49-0 | B45: Lupa Természetvédő, Horgász és Kulturális Egyesület | C45: 2011 Budakalász, Tó utca 1 | D45: 13-02-0007832 | E45: 19248343-2-13 | G45: Veégh Viktor | H45: elnök | I45: v.viktor@varioevent.hu | J45: =CONCATENATE(Táblázat1[[#This Row],[torvenyeskepviselo_nev]],", ",Táblázat1[[#This Row],[torvenyeskepviselo_beosztas]]) -> Veégh Viktor , elnök
A46: 011-13-50-0 | B46: Mentésben és Egészségügyben Résztvevők Szabadidő,Horgász és Sportegyesület | C46: 2600 Vác, Deákvári főút 58 | D46: 13-02-0008038 | E46: 19305884-1-13 | F46: 11600006-00000000-95670920 | G46: Horváth László | H46: elnök | I46: horvathlaszlo0213@gmail.com | J46: =CONCATENATE(Táblázat1[[#This Row],[torvenyeskepviselo_nev]],", ",Táblázat1[[#This Row],[torvenyeskepviselo_beosztas]]) -> Horváth László, elnök
A47: 011-13-51-0 | B47: Kisoroszi Nyurgaponty Horgász Egyesület | C47: 2024 Kisoroszi, Széchenyi út 80 | D47: 13-02-0003885 | E47: 18702783-1-13 | F47: 64700021-10010457 | G47: Sas József | H47: elnök | I47: ifjsasjozsef@gmail.com | J47: =CONCATENATE(Táblázat1[[#This Row],[torvenyeskepviselo_nev]],", ",Táblázat1[[#This Row],[torvenyeskepviselo_beosztas]]) -> Sas József , elnök
A48: 011-13-53-0 | B48: BULL Horgász Egyesület | C48: 1205 Budapest, Vas Gereben utca 86 | D48: 01-02-0018332 | E48: 19395782-1-43 | F48: 11709088-21458271 | G48: Feleky Gabriella | H48: elnökségi tag | I48: bullhorgaszegyesulet@gmail.com | J48: =CONCATENATE(Táblázat1[[#This Row],[torvenyeskepviselo_nev]],", ",Táblázat1[[#This Row],[torvenyeskepviselo_beosztas]]) -> Feleky Gabriella, elnökségi tag
A49: 012-01-01-5 | B49: Honvéd Sporthorgász Egyesület | C49: 1146 Budapest, Stefánia út 34 | D49: 01-02-0001807 | E49: 19624033-1-42 | F49: 11707024-20002080 | G49: Kulcsár János | H49: elnök | I49: harosiobol@gmail.com | J49: =CONCATENATE(Táblázat1[[#This Row],[torvenyeskepviselo_nev]],", ",Táblázat1[[#This Row],[torvenyeskepviselo_beosztas]]) -> Kulcsár János, elnök
A50: 012-01-02-0 | B50: Nagybudapesti Horgászok Egyesülete | C50: 1111 Budapest, Lágymányosi utca 14 | D50: 01-02-0002406 | E50: 19623922-1-43 | F50: 11707024-22114699 | G50: Béki József | H50: elnök | I50: nagybudapestihe@gmail.com | J50: =CONCATENATE(Táblázat1[[#This Row],[torvenyeskepviselo_nev]],", ",Táblázat1[[#This Row],[torvenyeskepviselo_beosztas]]) -> Béki József, elnök
A51: 012-01-03-0 | B51: Óbudai Dolgozók Sporthorgász Egyesülete | C51: 1031 Budapest, Csikóvár utca 12. | D51: 01-02-0002688 | E51: 19623953-1-41 | F51: 11703006-25961108 | G51: Veégh Viktor | H51: elnök | I51: v.viktor@varioevent.hu | J51: =CONCATENATE(Táblázat1[[#This Row],[torvenyeskepviselo_nev]],", ",Táblázat1[[#This Row],[torvenyeskepviselo_beosztas]]) -> Veégh Viktor, elnök
A52: 012-01-05-0 | B52: Nemzetgazdasági Minisztérium Horgászbarátok Egyesület | C52: 1051 Budapest, József nádor tér 2 | D52: 01-02-0002634 | E52: 19623740-1-41 | F52: 10300002-10295072-49020014 | G52: Hidas Sándor | H52: elnök | I52: ngmhorgasz@gmail.com | J52: =CONCATENATE(Táblázat1[[#This Row],[torvenyeskepviselo_nev]],", ",Táblázat1[[#This Row],[torvenyeskepviselo_beosztas]]) -> Hidas Sándor, elnök
A53: 012-01-06-0 | B53: Statisztika Horgászegyesület | C53: 1171 Budapest, Anna utca 16 | D53: 01-02-0002945 | E53: 19624040-1-42 | F53: 12100011-19050182 | G53: Windtner Zoltán | H53: elnök | I53: statisztikahe@gmail.com | J53: =CONCATENATE(Táblázat1[[#This Row],[torvenyeskepviselo_nev]],", ",Táblázat1[[#This Row],[torvenyeskepviselo_beosztas]]) -> Windtner Zoltán, elnök
A54: 012-01-07-0 | B54: Országos Tervhivatal Dolgozóinak Horgász Egyesülete | C54: 1114 Budapest, Móricz Zsigmond körtér 2 | D54: 01-02-0002407 | E54: 19623984-1-43 | F54: 11711041-20962214 | G54: Dr. Fehér Jenő | H54: elnök | I54: csikos46.lajos@gmail.com | J54: =CONCATENATE(Táblázat1[[#This Row],[torvenyeskepviselo_nev]],", ",Táblázat1[[#This Row],[torvenyeskepviselo_beosztas]]) -> Dr. Fehér Jenő, elnök
A55: 012-01-09-0 | B55: Fővárosi "Duna" Horgászegyesület | C55: 1111 Budapest, Lágymányosi utca 14 | D55: 01-02-0005428 | E55: 18056154-1-43 | F55: 11711041-20960621 | G55: Halécius Judit | H55: elnök | I55: fodunahe@gmail.com | J55: =CONCATENATE(Táblázat1[[#This Row],[torvenyeskepviselo_nev]],", ",Táblázat1[[#This Row],[torvenyeskepviselo_beosztas]]) -> Halécius Judit, elnök
A56: 021 | B56: Horgász Egyesületek Baranya Megyei Szövetsége | C56: 7621 Pécs, Teréz utca 11-13. | D56: 02-02-0001040 | E56: 19032571-1-02 | F56: 11731001-20206198 | G56: Kapitány Zsolt | H56: ügyvezető elnök | I56: info@hebmesz.hu | J56: =CONCATENATE(Táblázat1[[#This Row],[torvenyeskepviselo_nev]],", ",Táblázat1[[#This Row],[torvenyeskepviselo_beosztas]]) -> Kapitány Zsolt, ügyvezető elnök
A57: 021-02-01-9 | B57: Sellyei Horgász Egyesület | C57: 7960 Sellye, hrsz 012. | D57: 02-02-0000065 | E57: 19944506-1-02 | F57: 11731128-20014043 | G57: Gömöri László | H57: elnök | I57: guruto@freemail.hu; gomori6812@gmail.com | J57: =CONCATENATE(Táblázat1[[#This Row],[torvenyeskepviselo_nev]],", ",Táblázat1[[#This Row],[torvenyeskepviselo_beosztas]]) -> Gömöri László, elnök
... A79: 021-02-23-4 | B79: Szászvári Haladás Horgász Egyesület | C79: 7349 Szászvár, Külterület kültelek 085/1b.Ép. | D79: 02-02-0000053 | E79: 18315024-1-02 | F79: 71800068-11000808 | G79: Szilágyi Ferenc | H79: elnök | I79: ferszi@citromail.hu | J79: =CONCATENATE(Táblázat1[[#This Row],[torvenyeskepviselo_nev]],", ",Táblázat1[[#This Row],[torvenyeskepviselo_beosztas]]) -> Szilágyi Ferenc, elnök
A80: 021-02-24-4 | B80: "Zselic" Horgász Egyesület, Almamellék | C80: 7934 Almamellék, Kossuth utca 19 | D80: 02-02-0000073 | E80: 19026291-1-02 | F80: 11731094-20011507 | G80: Wolf Gábor | H80: elnök | J80: =CONCATENATE(Táblázat1[[#This Row],[torvenyeskepviselo_nev]],", ",Táblázat1[[#This Row],[torvenyeskepviselo_beosztas]]) -> Wolf Gábor, elnök
A81: 021-02-25-0 | B81: Drávazug Horgász Egyesület Felsőszentmárton | C81: 7968 Felsőszentmárton, Ifjúság utca 16. | D81: 02-02-0000051 | E81: 19944496-1-02 | F81: 50700152-11021986 | G81: Kustra Gábor | H81: elnök | I81: greges.anna3@gmail.com | J81: =CONCATENATE(Táblázat1[[#This Row],[torvenyeskepviselo_nev]],", ",Táblázat1[[#This Row],[torvenyeskepviselo_beosztas]]) -> Kustra Gábor, elnök
A82: 021-02-26-0 | B82: Bissei "Hunyadi" Horgászegyesület | C82: 7815 Harkány, Petőfi Sándor utca 63 | D82: 02-02-0000588 | E82: 19030878-1-02 | F82: 50100198-10001291 | G82: Kun Gyula | H82: elnök | I82: kw.krisz@gmail.com | J82: =CONCATENATE(Táblázat1[[#This Row],[torvenyeskepviselo_nev]],", ",Táblázat1[[#This Row],[torvenyeskepviselo_beosztas]]) -> Kun Gyula, elnök
A83: 021-02-27-0 | B83: Drávasztárai Horgász Egyesület | C83: 7960 Drávasztára, Zrínyi Miklós utca 21 | D83: 02-02-0000631 | E83: 19031484-1-02 | G83: Greksa Bálint | H83: elnök | I83: gb22@freemail.hu | J83: =CONCATENATE(Táblázat1[[#This Row],[torvenyeskepviselo_nev]],", ",Táblázat1[[#This Row],[torvenyeskepviselo_beosztas]]) -> Greksa Bálint, elnök
A84: 021-02-29-4 | B84: Baksai Horgász Egyesület | C84: 7834 Baksa, Ifjúság utca 12 | D84: 02-02-0000828 | E84: 19035804-1-02 | F84: 50700059-15500135 | G84: Sütő László | H84: elnök | I84: bhe.titkarsag@gmail.com | J84: =CONCATENATE(Táblázat1[[#This Row],[torvenyeskepviselo_nev]],", ",Táblázat1[[#This Row],[torvenyeskepviselo_beosztas]]) -> Sütő László, elnök
A85: 021-02-30-5 | B85: Kétújfalui "Gyöngyös" Horgász Egyesület | C85: 7975 Kétújfalu, Zrínyi utca 30 | D85: 02-02-0000852 | E85: 19036836-1-02 | F85: 50800087-10000269 | G85: Kaszti József | H85: elnök | I85: brunnerarpi63@gmail.com | J85: =CONCATENATE(Táblázat1[[#This Row],[torvenyeskepviselo_nev]],", ",Táblázat1[[#This Row],[torvenyeskepviselo_beosztas]]) -> Kaszti József , elnök
A86: 021-02-31-4 | B86: Dél-Zselic Horgász Egyesület Somogyhárságy-Magyarlukafa | C86: 7900 Szigetvár, Szabadság utca 4 | D86: 02-02-0001060 | E86: 18301179-1-02 | F86: 11731094-20011480 | G86: Ádám Zoltán | H86: elnök | I86: ady.zoltan@gmail.com | J86: =CONCATENATE(Táblázat1[[#This Row],[torvenyeskepviselo_nev]],", ",Táblázat1[[#This Row],[torvenyeskepviselo_beosztas]]) -> Ádám Zoltán, elnök
A87: 021-02-33-5 | B87: Hiricsi Horgász Egyesület | C87: 7838 Hirics, Vörösmarty utca 10 | D87: 02-02-0001173 | E87: 18305032-1-02 | F87: 50700145-11021807 | G87: Kiss István | H87: elnök | I87: richard.durovics@gmail.hu | J87: =CONCATENATE(Táblázat1[[#This Row],[torvenyeskepviselo_nev]],", ",Táblázat1[[#This Row],[torvenyeskepviselo_beosztas]]) -> Kiss István, elnök
A88: 021-02-34-5 | B88: Átai " Virágzó" Horgászegyesület | C88: 7762 Pécsudvard, Babos utca 7 | D88: 02-02-0001632 | E88: 18312849-1-02 | G88: Farkas Norbert György | H88: elnök | I88: norbert.farkas68@gmail.com | J88: =CONCATENATE(Táblázat1[[#This Row],[torvenyeskepviselo_nev]],", ",Táblázat1[[#This Row],[torvenyeskepviselo_beosztas]]) -> Farkas Norbert György, elnök
A89: 021-02-35-5 | B89: Bicsérdi Horgász Egyesület | C89: 7671 Bicsérd, Alkotmány tér 3 | D89: 02-02-0001647 | E89: 18313723-1-02 | F89: 50700073-15700373 | G89: Szili Ákos | H89: elnök | I89: miniszili@gmail.com | J89: =CONCATENATE(Táblázat1[[#This Row],[torvenyeskepviselo_nev]],", ",Táblázat1[[#This Row],[torvenyeskepviselo_beosztas]]) -> Szili Ákos, elnök
A90: 021-02-36-4 | B90: Március 15. Horgászegyesület | C90: 7940 Kacsóta, Petőfi utca 1/a | D90: 02-02-0001682 | E90: 18313709-1-02 | F90: 11731094-21455144 | G90: Odenvald Csaba | H90: elnök | I90: marcius15horgaszegyesulet@gmail.com | J90: =CONCATENATE(Táblázat1[[#This Row],[torvenyeskepviselo_nev]],", ",Táblázat1[[#This Row],[torvenyeskepviselo_beosztas]]) -> Odenvald Csaba, elnök
...

Sheet kódok
A1: AGRO-AQUA Kft.
A2: AQUINT Hungária Kft.
A3: Aranykárász Bt. (Dankó István őstermelő)
A4: Aranyponty Halászati Zrt.
A5: BAJCSHAL Kft.
A6: Bajor Imre egyéni vállalkozó
A7: Bakos Zsolt egyéni vállalkozó
A8: Balatoni Halgazdálkodási Nonprofit Zrt.
A9: Balogh Szerviz Trans Kft.
A10: Béda-Duna Kft.
A11: Békési Halászati Kft.
A12: Bertalan és Társa Halászati Kft.
... A90: Varga Farm Kft.
